BEGIN:VCALENDAR
X-WR-TIMEZONE:Europe/Berlin
X-WR-CALNAME:rbb-Kalender
VERSION:2.0
METHOD:PUBLISH
CALSCALE:GREGORIAN
PRODID:rbb-CMS DAY
BEGIN:VEVENT
CLASS:PUBLIC
URL:http://www.rbb-online.de/content/rbb/rbb/brandenburgaktuell/archiv/nach-dem-mail-datenklau/brandenburger-hasenschwund.html
DTEND:20140407T200000
DTSTART:20140407T193000
UID:/content/rbb/rbb/brandenburgaktuell/archiv/nach-dem-mail-datenklau/brandenburger-hasenschwund
DTSTAMP:20140408T111728
DESCRIPTION:Dem Feldhasen geht es schlecht in Brandenburg. Offenbar fühlen sich die Tiere auf den riesigen Äckern mit intensiver Landwirtschaft weniger wohl als auf kleineren Feldern im Westen Deutschlands. Dort gibt es die dreifache Zahl an Hasen. Sind die Agrarstrukturen tatsächlich der Grund für den Schwund?  Um das Herauszufinden machen sich Forscher der Universität Potsdam und vom Leibniz-Zentrum für Agrarlandschaftsforschung Müncheberg auf die Jagd nach Hasen.\n\n\n
SUMMARY:Der Brandenburger Hasen-Schwund
END:VEVENT
END:VCALENDAR
