BEGIN:VCALENDAR
X-WR-TIMEZONE:Europe/Berlin
X-WR-CALNAME:rbb-Kalender
VERSION:2.0
METHOD:PUBLISH
CALSCALE:GREGORIAN
PRODID:rbb-CMS DAY
BEGIN:VEVENT
CLASS:PUBLIC
URL:http://www.rbb-online.de/content/rbb/rbb/brandenburgaktuell/archiv/nach-dem-mail-datenklau/brandenburgwetter.html
DTEND:20140407T200000
DTSTART:20140407T193000
UID:/content/rbb/rbb/brandenburgaktuell/archiv/nach-dem-mail-datenklau/brandenburgwetter
DTSTAMP:20140408T111717
DESCRIPTION:Mitten im Frühling steht Wetter-Reporterin Ulrike Finck diesmal. Sie besucht den Garten der Familie Feltin in Peitz. Dort steht – mit einer Höhe von etwa 15 Metern – der größte Magnolienbaum Südbrandenburgs. Und jetzt steht der 120 Jahre alte Baum in voller Blüte. Die großen weiß-rosa Blüten sehen aus wie gemalt.\n
SUMMARY:Das Brandenburgwetter mit den Magnolienbäumen
END:VEVENT
END:VCALENDAR
