BEGIN:VCALENDAR
X-WR-TIMEZONE:Europe/Berlin
X-WR-CALNAME:rbb-Kalender
VERSION:2.0
METHOD:PUBLISH
CALSCALE:GREGORIAN
PRODID:rbb-CMS DAY
BEGIN:VEVENT
CLASS:PUBLIC
URL:http://www.rbb-online.de/content/rbb/rbb/brandenburgaktuell/archiv/nach-dem-mail-datenklau/carl-thiem.html
DTEND:20140407T200000
DTSTART:20140407T193000
UID:/content/rbb/rbb/brandenburgaktuell/archiv/nach-dem-mail-datenklau/carl-thiem
DTSTAMP:20140408T111806
DESCRIPTION:Wenn der Rettungshubschrauber Christoph 33 auf dem Dach des Cottbuser Krankenhauses landet, geht es um Leben oder Tod. Wer in Südbrandenburg schwer verunglückt, wird das Carl-Thiem-Klinikum mit hoher Wahrscheinlichkeit kennen lernen. Als Haus der Maximalversorgung ist es auf die Behandlung von Schwerstverletzten spezialisiert.\n\n\n\n\n
SUMMARY:Das Vermächtnis des Carl Thiem
END:VEVENT
END:VCALENDAR
