BEGIN:VCALENDAR
X-WR-TIMEZONE:Europe/Berlin
X-WR-CALNAME:rbb-Kalender
VERSION:2.0
METHOD:PUBLISH
CALSCALE:GREGORIAN
PRODID:rbb-CMS DAY
BEGIN:VEVENT
CLASS:PUBLIC
URL:http://www.rbb-online.de/content/rbb/rbb/brandenburgaktuell/archiv/nach-dem-mail-datenklau/millionenabfindung.html
DTEND:20140407T200000
DTSTART:20140407T193000
UID:/content/rbb/rbb/brandenburgaktuell/archiv/nach-dem-mail-datenklau/millionenabfindung
DTSTAMP:20140408T111817
DESCRIPTION:Rainer Schwarz, Ex-Flughafen-Chef und in dieser Funktion verantwortlich für das Flughafen-Debakel, will seine Kündigung nicht unwidersprochen hinnehmen. Vor dem Landgericht Berlin läuft jetzt der Prozess um Gehaltsfortzahlungen, insgesamt mehr als 1,6 Millionen Euro.\n \n
SUMMARY:Ex-Flughafen-Chef will Millionen-Abfindung
END:VEVENT
END:VCALENDAR
