BEGIN:VCALENDAR
X-WR-TIMEZONE:Europe/Berlin
X-WR-CALNAME:rbb-Kalender
VERSION:2.0
METHOD:PUBLISH
CALSCALE:GREGORIAN
PRODID:rbb-CMS DAY
BEGIN:VEVENT
CLASS:PUBLIC
URL:http://www.rbb-online.de/content/rbb/rbb/brandenburgaktuell/archiv/nach-dem-mail-datenklau/nach-dem-mail-datenklau.html
DTEND:20140407T200000
DTSTART:20140407T193000
UID:/content/rbb/rbb/brandenburgaktuell/archiv/nach-dem-mail-datenklau/nach-dem-mail-datenklau
DTSTAMP:20140408T111737
DESCRIPTION:Es ist ein Diebstahl von gigantischem Ausmaß: 18 Millionen E-Mail-Adressen samt Passwörter wurden - so der Stand der staatsanwaltlichen Ermittlungen - hat eine Bande von so genannten Cyber-Kriminellen gestohlen. Allein in Deutschland sollen es drei Millionen Mailadressen sein. Betroffen sein kann also praktisch jeder, der im Internet unterwegs ist.\n\n\n\n\n
SUMMARY:Nach dem Mail-Datenklau
END:VEVENT
END:VCALENDAR
