BEGIN:VCALENDAR
X-WR-TIMEZONE:Europe/Berlin
X-WR-CALNAME:rbb-Kalender
VERSION:2.0
METHOD:PUBLISH
CALSCALE:GREGORIAN
PRODID:rbb-CMS DAY
BEGIN:VEVENT
CLASS:PUBLIC
URL:http://www.rbb-online.de/content/rbb/rbb/brandenburgaktuell/landschleicher/beitraege/dambeck.html
DTEND:20140316T200000
DTSTART:20140316T193000
UID:/content/rbb/rbb/brandenburgaktuell/landschleicher/beitraege/dambeck
DTSTAMP:20140406T115106
DESCRIPTION:Brandenburg oder nicht? – Als Dambeck am Freitag aus der Landschleicherschüssel gezogen wurde, war schnell klar, Dambeck liegt gar nicht in Brandenburg. Oder doch? In den Wendewirren wurde der kleine Ort an der Grenze zur brandenburgischen Prignitz zwischen Brandenburg und Mecklenburg-Vorpommern hin und her gereicht.\n
SUMMARY:Dambeck
END:VEVENT
END:VCALENDAR
