BEGIN:VCALENDAR
X-WR-TIMEZONE:Europe/Berlin
X-WR-CALNAME:rbb-Kalender
VERSION:2.0
METHOD:PUBLISH
CALSCALE:GREGORIAN
PRODID:rbb-CMS DAY
BEGIN:VEVENT
CLASS:PUBLIC
URL:http://www.rbb-online.de/content/rbb/rbb/brandenburgaktuell/landschleicher/beitraege/dissenchen.html
DTEND:20130915T200000
DTSTART:20130915T193000
UID:/content/rbb/rbb/brandenburgaktuell/landschleicher/beitraege/dissenchen
DTSTAMP:20140406T114901
DESCRIPTION:An diesem Wochenende hat sich der Landschleicher auf den Weg nach Dissenchen, einem ländlichen Stadtteil der kreisfreien Stadt Cottbus gemacht.\n
SUMMARY:Dissenchen
END:VEVENT
END:VCALENDAR
