BEGIN:VCALENDAR
X-WR-TIMEZONE:Europe/Berlin
X-WR-CALNAME:rbb-Kalender
VERSION:2.0
METHOD:PUBLISH
CALSCALE:GREGORIAN
PRODID:rbb-CMS DAY
BEGIN:VEVENT
CLASS:PUBLIC
URL:http://www.rbb-online.de/content/rbb/rbb/brandenburgaktuell/landschleicher/beitraege/fehrow.html
DTEND:20130929T200000
DTSTART:20130929T193000
UID:/content/rbb/rbb/brandenburgaktuell/landschleicher/beitraege/fehrow
DTSTAMP:20140406T114954
DESCRIPTION:Das Dorf Fehrow liegt im Landkreis Spree-Neiße in der Niederlausitz im angestammten Gebiet der Sorben und wurde 1362 zum ersten Mal urkundlich erwähnt. Bis vor 20 Jahren hatte noch etwa ein Viertel der Fehrower Sorbischkenntnisse.\n\n\n
SUMMARY:Fehrow
END:VEVENT
END:VCALENDAR
