BEGIN:VCALENDAR
X-WR-TIMEZONE:Europe/Berlin
X-WR-CALNAME:rbb-Kalender
VERSION:2.0
METHOD:PUBLISH
CALSCALE:GREGORIAN
PRODID:rbb-CMS DAY
BEGIN:VEVENT
CLASS:PUBLIC
URL:http://www.rbb-online.de/content/rbb/rbb/brandenburgaktuell/landschleicher/beitraege/krempendorf.html
DTEND:20130804T200000
DTSTART:20130804T193000
UID:/content/rbb/rbb/brandenburgaktuell/landschleicher/beitraege/krempendorf
DTSTAMP:20140406T114510
DESCRIPTION:Krempendorf liegt in der Prignitz, an der Landesgrenze zu Mecklenburg-Vorpommern. Was gleich auffällt: Hektik und Aufregung liegen den 255 Krempendorfern fern.\n\n\n
SUMMARY:Krempendorf 
END:VEVENT
END:VCALENDAR
