BEGIN:VCALENDAR
X-WR-TIMEZONE:Europe/Berlin
X-WR-CALNAME:rbb-Kalender
VERSION:2.0
METHOD:PUBLISH
CALSCALE:GREGORIAN
PRODID:rbb-CMS DAY
BEGIN:VEVENT
CLASS:PUBLIC
URL:http://www.rbb-online.de/content/rbb/rbb/brandenburgaktuell/landschleicher/beitraege/landschleicher-bindow.html
DTEND:20140309T200000
DTSTART:20140309T193000
UID:/content/rbb/rbb/brandenburgaktuell/landschleicher/beitraege/landschleicher-bindow
DTSTAMP:20140405T110529
DESCRIPTION:Der Landschleicher hat am Sonntag Bindow besucht und ist trotz Fastenzeit noch auf Narren gestoßen. In Bindow steht Heiterkeit ganz oben, und das Männerballett gibt den Schwanentanz zu jeder Jahreszeit gern zum Besten.\n
SUMMARY:Bindow
END:VEVENT
END:VCALENDAR
