BEGIN:VCALENDAR
X-WR-TIMEZONE:Europe/Berlin
X-WR-CALNAME:rbb-Kalender
VERSION:2.0
METHOD:PUBLISH
CALSCALE:GREGORIAN
PRODID:rbb-CMS DAY
BEGIN:VEVENT
CLASS:PUBLIC
URL:http://www.rbb-online.de/content/rbb/rbb/brandenburgaktuell/landschleicher/beitraege/landschleicher-krieschow.html
DTEND:20131215T200000
DTSTART:20131215T193000
UID:/content/rbb/rbb/brandenburgaktuell/landschleicher/beitraege/landschleicher-krieschow
DTSTAMP:20140405T110541
DESCRIPTION:Der Landschleicher war in Krieschow und wurde dort gleich mit Weihnachtsplätzchen begrüßt. Die hat Sorbisch-Lehrer Lobert Teil gebacken. Normalerweise begrüßt man Gäste mit Brot und Salz, aber im Land der Wenden ist man in Weihnachtsstimmung.\n\n\n
SUMMARY:Krieschow
END:VEVENT
END:VCALENDAR
