BEGIN:VCALENDAR
X-WR-TIMEZONE:Europe/Berlin
X-WR-CALNAME:rbb-Kalender
VERSION:2.0
METHOD:PUBLISH
CALSCALE:GREGORIAN
PRODID:rbb-CMS DAY
BEGIN:VEVENT
CLASS:PUBLIC
URL:http://www.rbb-online.de/content/rbb/rbb/brandenburgaktuell/landschleicher/beitraege/landschleicher-langerwisch.html
DTEND:20131208T200000
DTSTART:20131208T193000
UID:/content/rbb/rbb/brandenburgaktuell/landschleicher/beitraege/landschleicher-langerwisch
DTSTAMP:20140405T105858
DESCRIPTION:Das Los hat diese Woche Langerwisch im Landkreis Potsdam-Mittelmark gezogen. Der Landschleicher war dort und ist auf so einige Überraschungen gestoßen. Da wird unterschieden zwischen Alt Langerwisch und Neu Langerwisch – Neu Langerwisch ist jedoch älter als Alt Langerwisch.\n\n\n
SUMMARY:Langerwisch
END:VEVENT
END:VCALENDAR
