BEGIN:VCALENDAR
X-WR-TIMEZONE:Europe/Berlin
X-WR-CALNAME:rbb-Kalender
VERSION:2.0
METHOD:PUBLISH
CALSCALE:GREGORIAN
PRODID:rbb-CMS DAY
BEGIN:VEVENT
CLASS:PUBLIC
URL:http://www.rbb-online.de/content/rbb/rbb/brandenburgaktuell/landschleicher/beitraege/leibchel.html
DTEND:20140330T200000
DTSTART:20140330T193000
UID:/content/rbb/rbb/brandenburgaktuell/landschleicher/beitraege/leibchel
DTSTAMP:20140404T153836
DESCRIPTION:Leibchel – das klingt nach einem besonderen Ortsnamen. Und tatsächlich: Das 1004 erstmals erwähnte Örtchen im Landkreis Dahme-Spreewald heißt sorbisch Liubocholi. Das heißt soviel wie „Siedlung eines Mannes mit dem Namen Lubochol“.\n
SUMMARY:Leibchel
END:VEVENT
END:VCALENDAR
