BEGIN:VCALENDAR
X-WR-TIMEZONE:Europe/Berlin
X-WR-CALNAME:rbb-Kalender
VERSION:2.0
METHOD:PUBLISH
CALSCALE:GREGORIAN
PRODID:rbb-CMS DAY
BEGIN:VEVENT
CLASS:PUBLIC
URL:http://www.rbb-online.de/content/rbb/rbb/brandenburgaktuell/landschleicher/beitraege/manker.html
DTEND:20131201T200000
DTSTART:20131201T193000
UID:/content/rbb/rbb/brandenburgaktuell/landschleicher/beitraege/manker
DTSTAMP:20140405T105959
DESCRIPTION:An diesem Wochenende machte der Landschleicher Station in Manker (Landkreis Ostprignitz-Ruppin). Manker ist ein Straßendorf, zwei Kilometer lang, und liegt am Rande des fruchtbaren Rhinluchs.\n
SUMMARY:Manker
END:VEVENT
END:VCALENDAR
