BEGIN:VCALENDAR
X-WR-TIMEZONE:Europe/Berlin
X-WR-CALNAME:rbb-Kalender
VERSION:2.0
METHOD:PUBLISH
CALSCALE:GREGORIAN
PRODID:rbb-CMS DAY
BEGIN:VEVENT
CLASS:PUBLIC
URL:http://www.rbb-online.de/content/rbb/rbb/brandenburgaktuell/landschleicher/beitraege/menz.html
DTEND:20130728T193000
DTSTART:20130728T193000
UID:/content/rbb/rbb/brandenburgaktuell/landschleicher/beitraege/menz
DTSTAMP:20140406T114500
DESCRIPTION:Der Landschleicher war an diesem Wochenende im Landkreis Oberhavel unterwegs. Das kleine Dorf Menz liegt im Naturpark Stechliner-Ruppiner-Land direkt am Roofensee und nicht weit entfernt vom Stechlinsee.\n
SUMMARY:Menz
END:VEVENT
END:VCALENDAR
