BEGIN:VCALENDAR
X-WR-TIMEZONE:Europe/Berlin
X-WR-CALNAME:rbb-Kalender
VERSION:2.0
METHOD:PUBLISH
CALSCALE:GREGORIAN
PRODID:rbb-CMS DAY
BEGIN:VEVENT
CLASS:PUBLIC
URL:http://www.rbb-online.de/content/rbb/rbb/brandenburgaktuell/landschleicher/beitraege/saxdorf.html
DTEND:20130623T193000
DTSTART:20130623T193000
UID:/content/rbb/rbb/brandenburgaktuell/landschleicher/beitraege/saxdorf
DTSTAMP:20140406T114426
DESCRIPTION:In der fast 800 Jahre alten Kirche des Ortes finden regelmäßig Konzerte statt. Und nicht Wenige halten den Pfarrgarten von Saxdorf für einen der schönsten Gärten Deutschlands. Der Landschleicher hat sich vor Ort von den blühenden Rosen verzaubern lassen.\n
SUMMARY:Saxdorf
END:VEVENT
END:VCALENDAR
