BEGIN:VCALENDAR
X-WR-TIMEZONE:Europe/Berlin
X-WR-CALNAME:rbb-Kalender
VERSION:2.0
METHOD:PUBLISH
CALSCALE:GREGORIAN
PRODID:rbb-CMS DAY
BEGIN:VEVENT
CLASS:PUBLIC
URL:http://www.rbb-online.de/content/rbb/rbb/brandenburgaktuell/landschleicher/beitraege/stoelln.html
DTEND:20130602T193000
DTSTART:20130602T193000
UID:/content/rbb/rbb/brandenburgaktuell/landschleicher/beitraege/stoelln
DTSTAMP:20140406T114411
DESCRIPTION:Unser Landschleicher war in Stölln im Havelland unterwegs. Der Besuch führte auch zum Flugsportverein Otto Lilienthal. Die Startbahn liegt am Fuß des Gollenbergs, wo Lilienthal höchstpersönlich landete, wenn der Wind aus Süden kam. Hier starb Lilienthal auch bei einem Flugzeugunfall.\n
SUMMARY:Stölln
END:VEVENT
END:VCALENDAR
