BEGIN:VCALENDAR
X-WR-TIMEZONE:Europe/Berlin
X-WR-CALNAME:rbb-Kalender
VERSION:2.0
METHOD:PUBLISH
CALSCALE:GREGORIAN
PRODID:rbb-CMS DAY
BEGIN:VEVENT
CLASS:PUBLIC
URL:http://www.rbb-online.de/content/rbb/rbb/brandenburgaktuell/landschleicher/beitraege/vogelsang-oberhavel-landschleicher.html
DTEND:20131117T200000
DTSTART:20131117T193000
UID:/content/rbb/rbb/brandenburgaktuell/landschleicher/beitraege/vogelsang-oberhavel-landschleicher
DTSTAMP:20140406T114605
DESCRIPTION:Unser Landschleicher hat sich an diesem Wochenende im Landkreis Oberhavel rumgetrieben: in Vogelsang, einem Ortsteil von Zehdenick. In den 1990er Jahren waren hier sowjetische Streitkräfte stationiert, zeitweise bis zu 15.000 Menschen. Heute leben in Vogelgesang nur noch 80 Personen.\n
SUMMARY:Vogelsang
END:VEVENT
END:VCALENDAR
