BEGIN:VCALENDAR
X-WR-TIMEZONE:Europe/Berlin
X-WR-CALNAME:rbb-Kalender
VERSION:2.0
METHOD:PUBLISH
CALSCALE:GREGORIAN
PRODID:rbb-CMS DAY
BEGIN:VEVENT
CLASS:PUBLIC
URL:http://www.rbb-online.de/content/rbb/rbb/brandenburgaktuell/serien/brandenburg-von-oben/brandenburg-von-oben-frankfurt.html
DTEND:20140105T200000
DTSTART:20140105T193000
UID:/content/rbb/rbb/brandenburgaktuell/serien/brandenburg-von-oben/brandenburg-von-oben-frankfurt
DTSTAMP:20140407T110753
DESCRIPTION:Die Brandenburg aktuell – Kamera ist entlang der Oder und über Frankfurt geflogen.\n\nAuf der alten Oder zwischen der Stadt und Ziegenwerder trainiert der Frankfurter Ruderclub. Vom Ufer der Oder geht der Blick zum Oder-Turm – dort hat der rbb sein Frankfurter Studio. 25 Stockwerke hoch und im vorletzten Stock befindet sich Brandenburgs höchstes Restaurant.\n\n\n\n\n
SUMMARY:Frankfurt (Oder)
END:VEVENT
END:VCALENDAR
