BEGIN:VCALENDAR
X-WR-TIMEZONE:Europe/Berlin
X-WR-CALNAME:rbb-Kalender
VERSION:2.0
METHOD:PUBLISH
CALSCALE:GREGORIAN
PRODID:rbb-CMS DAY
BEGIN:VEVENT
CLASS:PUBLIC
URL:http://www.rbb-online.de/content/rbb/rbb/brandenburgaktuell/serien/brandenburg-von-oben/wildau-von-oben.html
DTEND:20131222T200000
DTSTART:20131222T193000
UID:/content/rbb/rbb/brandenburgaktuell/serien/brandenburg-von-oben/wildau-von-oben
DTSTAMP:20140407T110706
DESCRIPTION:Immer sonntags zeigen wir Brandenburg von oben. Heute ist unsere Drohne über Wildau in der Luft, beginnend mit dem A 10 Center: Hier ist verkaufsoffener Sonntag, die Menschen sind im vorweihnachtlichen Einkaufsfieber. Doch Wildau hat mehr zu bieten als das Einkaufszentrum.\n
SUMMARY:Wildau von oben
END:VEVENT
END:VCALENDAR
