BEGIN:VCALENDAR
X-WR-TIMEZONE:Europe/Berlin
X-WR-CALNAME:rbb-Kalender
VERSION:2.0
METHOD:PUBLISH
CALSCALE:GREGORIAN
PRODID:rbb-CMS DAY
BEGIN:VEVENT
CLASS:PUBLIC
URL:http://www.rbb-online.de/content/rbb/rbb/brandenburgaktuell/serien/hausbesuch/Hausbesuch-Viesen.html
DTEND:20131026T200000
DTSTART:20131026T193000
UID:/content/rbb/rbb/brandenburgaktuell/serien/hausbesuch/Hausbesuch-Viesen
DTSTAMP:20140405T110811
DESCRIPTION:Wenn es eine Steigerung von Blau gibt, dann findet man diese in Viesen, zwischen Brandenburg an der Havel und Ziesar. Dort steht der Bauernhof, den Familie Erler seit zehn Jahren ausbaut. Seine Grundmauern sind 300 Jahre alt.\n
SUMMARY:Hausbesuch in Viesen
END:VEVENT
END:VCALENDAR
