BEGIN:VCALENDAR
X-WR-TIMEZONE:Europe/Berlin
X-WR-CALNAME:rbb-Kalender
VERSION:2.0
METHOD:PUBLISH
CALSCALE:GREGORIAN
PRODID:rbb-CMS DAY
BEGIN:VEVENT
CLASS:PUBLIC
URL:http://www.rbb-online.de/content/rbb/rbb/brandenburgaktuell/serien/hausbesuch/bauernkate-in-garz.html
DTEND:20140125T200000
DTSTART:20140125T193000
UID:/content/rbb/rbb/brandenburgaktuell/serien/hausbesuch/bauernkate-in-garz
DTSTAMP:20140405T110921
DESCRIPTION:Brandenburg aktuell war zu Gast in einer alten Bauernkate in Garz (Ortsteil der Gemeinde Temnitztal im Kreis Ostprignitz-Ruppin) aus dem Jahr 1781. Christina Tilmann und Michael Zajonz haben ihr Traumhaus vor vier Jahren gekauft und seitdem liebevoll ausgebaut.\n\n\n
SUMMARY:Bauernkate in Garz
END:VEVENT
END:VCALENDAR
