BEGIN:VCALENDAR
X-WR-TIMEZONE:Europe/Berlin
X-WR-CALNAME:rbb-Kalender
VERSION:2.0
METHOD:PUBLISH
CALSCALE:GREGORIAN
PRODID:rbb-CMS DAY
BEGIN:VEVENT
CLASS:PUBLIC
URL:http://www.rbb-online.de/content/rbb/rbb/brandenburgaktuell/serien/hausbesuch/besuch-auf-gutshof-buelowssiege.html
DTEND:20131109T200000
DTSTART:20131109T193000
UID:/content/rbb/rbb/brandenburgaktuell/serien/hausbesuch/besuch-auf-gutshof-buelowssiege
DTSTAMP:20140405T111054
DESCRIPTION:Ein Gutshof wie aus dem Bilderbuch: das Vorwerk Bülowssiege in der nordwestlichen Uckermark. Erbaut hat die Anlage 1829 Reichsgraf Hermann von Schwerin. Heute wohnt hier sein Nachfahre Detlef Graf von Schwerin mit Frau Kerrin.\n\n\n
SUMMARY:Zu Besuch auf dem Gutshof Bülowssiege
END:VEVENT
END:VCALENDAR
