BEGIN:VCALENDAR
X-WR-TIMEZONE:Europe/Berlin
X-WR-CALNAME:rbb-Kalender
VERSION:2.0
METHOD:PUBLISH
CALSCALE:GREGORIAN
PRODID:rbb-CMS DAY
BEGIN:VEVENT
CLASS:PUBLIC
URL:http://www.rbb-online.de/content/rbb/rbb/brandenburgaktuell/serien/hausbesuch/hausbesuch-krimskramshaus.html
DTEND:20131019T200000
DTSTART:20131019T193000
UID:/content/rbb/rbb/brandenburgaktuell/serien/hausbesuch/hausbesuch-krimskramshaus
DTSTAMP:20140405T111040
DESCRIPTION:Gebaut im Jahr 1799 lebten hier früher zwei Waldarbeiter-Familien. Seit knapp sechs Jahren wohnt dort nun der Raumgestalter Thomas Greb. So ausgefallen wie er die Schaufenster dekoriert, sieht auch sein Haus aus.\n\n\n
SUMMARY:Hausbesuch: Krimskrams-Haus in Liebenwalde
END:VEVENT
END:VCALENDAR
