BEGIN:VCALENDAR
X-WR-TIMEZONE:Europe/Berlin
X-WR-CALNAME:rbb-Kalender
VERSION:2.0
METHOD:PUBLISH
CALSCALE:GREGORIAN
PRODID:rbb-CMS DAY
BEGIN:VEVENT
CLASS:PUBLIC
URL:http://www.rbb-online.de/content/rbb/rbb/brandenburgaktuell/serien/hausbesuch/hausbesuch-wittenberge.html
DTEND:20140301T200000
DTSTART:20140301T193000
UID:/content/rbb/rbb/brandenburgaktuell/serien/hausbesuch/hausbesuch-wittenberge
DTSTAMP:20140405T110732
DESCRIPTION:Das Jugendstil-Wohnhaus "Zu den vier Jahreszeiten" ist ein echter Hingucker in Wittenberge. Direkt gegenüber vom Bahnhof strahlt einem das bunte Stuck entgegen.\n\n\n
SUMMARY:Hausbesuch Wittenberge
END:VEVENT
END:VCALENDAR
