BEGIN:VCALENDAR
X-WR-TIMEZONE:Europe/Berlin
X-WR-CALNAME:rbb-Kalender
VERSION:2.0
METHOD:PUBLISH
CALSCALE:GREGORIAN
PRODID:rbb-CMS DAY
BEGIN:VEVENT
CLASS:PUBLIC
URL:http://www.rbb-online.de/content/rbb/rbb/brandenburgaktuell/serien/hausbesuch/herrenhaus-caule-lothar-trender-schmidt.html
DTEND:20140111T200000
DTSTART:20140111T193000
UID:/content/rbb/rbb/brandenburgaktuell/serien/hausbesuch/herrenhaus-caule-lothar-trender-schmidt
DTSTAMP:20140405T110721
DESCRIPTION:Das Herrenhaus in Caule hat 300 Jahre auf dem Buckel und es hatte Glück: Denn halbverfallen ist es in die Hände von Lothar Treder-Schmidt geraten, der die Gegend und Altes liebt und zwar so sehr, dass er das Herrenhaus originalgetreu wieder aufgebaut hat.\n
SUMMARY:Hausbesuch: Herrenhaus in Caule
END:VEVENT
END:VCALENDAR
