BEGIN:VCALENDAR
X-WR-TIMEZONE:Europe/Berlin
X-WR-CALNAME:rbb-Kalender
VERSION:2.0
METHOD:PUBLISH
CALSCALE:GREGORIAN
PRODID:rbb-CMS DAY
BEGIN:VEVENT
CLASS:PUBLIC
URL:http://www.rbb-online.de/content/rbb/rbb/brandenburgaktuell/serien/hausbesuch/neubau-im-historischen-altbauensemble-perleberg.html
DTEND:20131116T200000
DTSTART:20131116T193000
UID:/content/rbb/rbb/brandenburgaktuell/serien/hausbesuch/neubau-im-historischen-altbauensemble-perleberg
DTSTAMP:20140405T110902
DESCRIPTION:Inmitten der denkmalgeschützten Altstadt von Perleberg steht ein Neubau, der sich in die historische Struktur des Altbauensembles einfügt - ein lohnendes Ziel für unseren  "Hausbesuch".\n
SUMMARY:Neubau im historischen Altbauensemble
END:VEVENT
END:VCALENDAR
