BEGIN:VCALENDAR
X-WR-TIMEZONE:Europe/Berlin
X-WR-CALNAME:rbb-Kalender
VERSION:2.0
METHOD:PUBLISH
CALSCALE:GREGORIAN
PRODID:rbb-CMS DAY
BEGIN:VEVENT
CLASS:PUBLIC
URL:http://www.rbb-online.de/content/rbb/rbb/brandenburgaktuell/serien/land-und-lecker/Fiore.html
DTEND:20131129T200000
DTSTART:20131129T193000
UID:/content/rbb/rbb/brandenburgaktuell/serien/land-und-lecker/Fiore
DTSTAMP:20140405T105314
DESCRIPTION:In unserer Serie "Land & lecker"  besuchen wir in dieser Woche das "Fiore" in Potsdam -  trotz des italienischen Namens kocht man dort gern regional. Märkisches Wild zum Beispiel. Dazu passen natürlich besonders gut fruchtige Soßen.\n
SUMMARY:"Fiore" in Potsdam
END:VEVENT
END:VCALENDAR
