BEGIN:VCALENDAR
X-WR-TIMEZONE:Europe/Berlin
X-WR-CALNAME:rbb-Kalender
VERSION:2.0
METHOD:PUBLISH
CALSCALE:GREGORIAN
PRODID:rbb-CMS DAY
BEGIN:VEVENT
CLASS:PUBLIC
URL:http://www.rbb-online.de/content/rbb/rbb/brandenburgaktuell/serien/land-und-lecker/Fisch-Haus-in-Wendisch-Rietz.html
DTEND:20140103T200000
DTSTART:20140103T193000
UID:/content/rbb/rbb/brandenburgaktuell/serien/land-und-lecker/Fisch-Haus-in-Wendisch-Rietz
DTSTAMP:20140405T105425
DESCRIPTION:Brandenburg aktuell war zu Gast in der Gegend südlich des Scharmützelsees, mitten auf einer Halbinsel am kleinen Glubigsee in Wendisch-Rietz. Hier hat sich der gelernte Fischereimeister Matthias Gödicke nach der Wende mit seinem eigenen Restaurant "Fisch-Haus" selbständig gemacht.\n\n\n
SUMMARY:Fisch-Haus 
END:VEVENT
END:VCALENDAR
