BEGIN:VCALENDAR
X-WR-TIMEZONE:Europe/Berlin
X-WR-CALNAME:rbb-Kalender
VERSION:2.0
METHOD:PUBLISH
CALSCALE:GREGORIAN
PRODID:rbb-CMS DAY
BEGIN:VEVENT
CLASS:PUBLIC
URL:http://www.rbb-online.de/content/rbb/rbb/brandenburgaktuell/serien/land-und-lecker/_friedrich_wilhelm.html
DTEND:20130524T193000
DTSTART:20130524T193000
UID:/content/rbb/rbb/brandenburgaktuell/serien/land-und-lecker/_friedrich_wilhelm
DTSTAMP:20140407T105440
DESCRIPTION:Wer in Brandenburg auf Sterne-Niveau essen will, hat nicht viel Auswahl. Das Restaurant "Siebzehn-Fuffzig" in Burg etwa führt einen. Der Pionier der märkischen Sterne-Küche kocht aber in Potsdam.\n
SUMMARY:"Friedrich Wilhelm" in Potsdam
END:VEVENT
END:VCALENDAR
