BEGIN:VCALENDAR
X-WR-TIMEZONE:Europe/Berlin
X-WR-CALNAME:rbb-Kalender
VERSION:2.0
METHOD:PUBLISH
CALSCALE:GREGORIAN
PRODID:rbb-CMS DAY
BEGIN:VEVENT
CLASS:PUBLIC
URL:http://www.rbb-online.de/content/rbb/rbb/brandenburgaktuell/serien/land-und-lecker/dammmeisterhaus_in.html
DTEND:20130628T193000
DTSTART:20130628T193000
UID:/content/rbb/rbb/brandenburgaktuell/serien/land-und-lecker/dammmeisterhaus_in
DTSTAMP:20140407T105458
DESCRIPTION:Sommerzeit ist Eisbecherzeit, und längst müssen es nicht mehr nur die Standardvarianten sein. Trotzdem sind noch Überraschungen drin, etwa im äußersten östlichen Winkel Brandenburgs, in der denkmalgeschützten Dammmeisterei in Zollbrücke an der Oder. Dort gibt es Do-it-yourself-Eisbecher.\n
SUMMARY:Dammmeisterhaus in Zollbrücke
END:VEVENT
END:VCALENDAR
