BEGIN:VCALENDAR
X-WR-TIMEZONE:Europe/Berlin
X-WR-CALNAME:rbb-Kalender
VERSION:2.0
METHOD:PUBLISH
CALSCALE:GREGORIAN
PRODID:rbb-CMS DAY
BEGIN:VEVENT
CLASS:PUBLIC
URL:http://www.rbb-online.de/content/rbb/rbb/brandenburgaktuell/serien/land-und-lecker/der_seehof_in_rheinsberg.html
DTEND:20130510T193000
DTSTART:20130510T193000
UID:/content/rbb/rbb/brandenburgaktuell/serien/land-und-lecker/der_seehof_in_rheinsberg
DTSTAMP:20140407T105315
DESCRIPTION:Der Seehof in Rheinsberg ist ein ehemaliges Ackerbürgerhaus aus dem Jahr 1750. Heute beherbergt es Hotel, Restaurant, Hofgarten, Tenne und Eiskeller. Architekten und Designer haben sich bemüht, eine besondere Landhausatmosphäre zu erschaffen.\n
SUMMARY:Der Seehof in Rheinsberg
END:VEVENT
END:VCALENDAR
