BEGIN:VCALENDAR
X-WR-TIMEZONE:Europe/Berlin
X-WR-CALNAME:rbb-Kalender
VERSION:2.0
METHOD:PUBLISH
CALSCALE:GREGORIAN
PRODID:rbb-CMS DAY
BEGIN:VEVENT
CLASS:PUBLIC
URL:http://www.rbb-online.de/content/rbb/rbb/brandenburgaktuell/serien/land-und-lecker/die-stobbermuehle.html
DTEND:20131227T200000
DTSTART:20131227T193000
UID:/content/rbb/rbb/brandenburgaktuell/serien/land-und-lecker/die-stobbermuehle
DTSTAMP:20140405T105516
DESCRIPTION:Die Tage werden wieder länger und auch das Jahr ist fast vorbei. Und so hat man sich zum Jahreswechsel in Buckow, in der Stobbermühle, etwas ganz Besonderes einfallen lassen: Ein Hummer kommt für Land und Lecker auf den Tisch.\n
SUMMARY:Die Stobbermühle
END:VEVENT
END:VCALENDAR
