BEGIN:VCALENDAR
X-WR-TIMEZONE:Europe/Berlin
X-WR-CALNAME:rbb-Kalender
VERSION:2.0
METHOD:PUBLISH
CALSCALE:GREGORIAN
PRODID:rbb-CMS DAY
BEGIN:VEVENT
CLASS:PUBLIC
URL:http://www.rbb-online.de/content/rbb/rbb/brandenburgaktuell/serien/land-und-lecker/familienhotel-brandtsheide-im-flaeming.html
DTEND:20130920T200000
DTSTART:20130920T193000
UID:/content/rbb/rbb/brandenburgaktuell/serien/land-und-lecker/familienhotel-brandtsheide-im-flaeming
DTSTAMP:20140405T105243
DESCRIPTION:\nDer Fläming ist schön, hat aber wenig Wasser - keine großen Seen und Flüsse. Überraschenderweise aber kommt eine kulinarische Spezialität dieser Region direkt aus dem Wasser. Man findet sie in fast jedem Lokal rund um Wiesenburg und Bad Belzig. Auch im "Familienhotel Brandtsheide" in Wiesenburg/Mark wird Forelle serviert.\n\n
SUMMARY:Familienhotel Brandtsheide
END:VEVENT
END:VCALENDAR
