BEGIN:VCALENDAR
X-WR-TIMEZONE:Europe/Berlin
X-WR-CALNAME:rbb-Kalender
VERSION:2.0
METHOD:PUBLISH
CALSCALE:GREGORIAN
PRODID:rbb-CMS DAY
BEGIN:VEVENT
CLASS:PUBLIC
URL:http://www.rbb-online.de/content/rbb/rbb/brandenburgaktuell/serien/land-und-lecker/haus-am-spreebogen.html
DTEND:20131220T200000
DTSTART:20131220T193000
UID:/content/rbb/rbb/brandenburgaktuell/serien/land-und-lecker/haus-am-spreebogen
DTSTAMP:20140405T105332
DESCRIPTION:Lachsforelle an Kumquats und das von einer 28-jährigen Küchenchefin und mal nicht von einem Küchenchef: Im „Haus am Spreebogen“ in Fürstenwalde ist vieles anders, aber trotzdem Land und Lecker. Mit Anfang 20 hatte Gordon Kwast das Restaurant mit großen Zielen übernommen. Erfolgreich, wie es aussieht.\n
SUMMARY:Haus am Spreebogen
END:VEVENT
END:VCALENDAR
