BEGIN:VCALENDAR
X-WR-TIMEZONE:Europe/Berlin
X-WR-CALNAME:rbb-Kalender
VERSION:2.0
METHOD:PUBLISH
CALSCALE:GREGORIAN
PRODID:rbb-CMS DAY
BEGIN:VEVENT
CLASS:PUBLIC
URL:http://www.rbb-online.de/content/rbb/rbb/brandenburgaktuell/serien/land-und-lecker/juani-in-wriezen.html
DTEND:20130823T200000
DTSTART:20130823T193000
UID:/content/rbb/rbb/brandenburgaktuell/serien/land-und-lecker/juani-in-wriezen
DTSTAMP:20140405T105623
DESCRIPTION:In unserer Serie Land & Lecker berichten wir regelmäßig von den besten Restaurants in Brandenburg. Dieses Mal sind wir im italienischen Restaurant „Juani“ in Wriezen. Seit gut drei Monaten bringen Inhaberin Julia Tamm und Antonio De Nuzzo südliches Flair in die Oderbruchhauptstadt.\n\n\n
SUMMARY:Juani in Wriezen
END:VEVENT
END:VCALENDAR
