BEGIN:VCALENDAR
X-WR-TIMEZONE:Europe/Berlin
X-WR-CALNAME:rbb-Kalender
VERSION:2.0
METHOD:PUBLISH
CALSCALE:GREGORIAN
PRODID:rbb-CMS DAY
BEGIN:VEVENT
CLASS:PUBLIC
URL:http://www.rbb-online.de/content/rbb/rbb/brandenburgaktuell/serien/land-und-lecker/landgasthof_muehlenteich_eggersdorf.html
DTEND:20131122T200000
DTSTART:20131122T193000
UID:/content/rbb/rbb/brandenburgaktuell/serien/land-und-lecker/landgasthof_muehlenteich_eggersdorf
DTSTAMP:20140405T105253
DESCRIPTION:Gleich zwei Restaurants gehören zum Landgasthof am Mühlenteich in Eggersdorf: Die "Bauernstube" und "Das Zimmer". In einem geht es eher bodenständig zu, in dem anderen ist die Küche ausgewählter und wurde mit vier Sternen vom Deutschen Hotel und Gaststättenverband klassifiziert.\n\n\n
SUMMARY:Mühlenteich Eggersdorf
END:VEVENT
END:VCALENDAR
