BEGIN:VCALENDAR
X-WR-TIMEZONE:Europe/Berlin
X-WR-CALNAME:rbb-Kalender
VERSION:2.0
METHOD:PUBLISH
CALSCALE:GREGORIAN
PRODID:rbb-CMS DAY
BEGIN:VEVENT
CLASS:PUBLIC
URL:http://www.rbb-online.de/content/rbb/rbb/brandenburgaktuell/serien/land-und-lecker/malxestube-in-forst.html
DTEND:20140314T200000
DTSTART:20140314T193000
UID:/content/rbb/rbb/brandenburgaktuell/serien/land-und-lecker/malxestube-in-forst
DTSTAMP:20140405T105524
DESCRIPTION:In der Malxestube in Forst fliegen einem zwar nicht die gebratenen Tauben in den Mund, aber man kann beim Nachbarn die Vögel noch flattern sehen, bevor sie im Restaurant auf dem Teller landen.\n
SUMMARY:Malxestube in Forst
END:VEVENT
END:VCALENDAR
