BEGIN:VCALENDAR
X-WR-TIMEZONE:Europe/Berlin
X-WR-CALNAME:rbb-Kalender
VERSION:2.0
METHOD:PUBLISH
CALSCALE:GREGORIAN
PRODID:rbb-CMS DAY
BEGIN:VEVENT
CLASS:PUBLIC
URL:http://www.rbb-online.de/content/rbb/rbb/brandenburgaktuell/serien/land-und-lecker/mutterwelt.html
DTEND:20140328T200000
DTSTART:20140328T193000
UID:/content/rbb/rbb/brandenburgaktuell/serien/land-und-lecker/mutterwelt
DTSTAMP:20140404T155422
DESCRIPTION:Die Apfel-Meerrettichsuppe ist der Renner im Restaurant „Mutterwelt“ in Dahlewitz. Inhaber Michael Walter bezieht den Meerrettich direkt aus der Lausitz.\n\n\n
SUMMARY:Mutterwelt in Dahlewitz
END:VEVENT
END:VCALENDAR
