BEGIN:VCALENDAR
X-WR-TIMEZONE:Europe/Berlin
X-WR-CALNAME:rbb-Kalender
VERSION:2.0
METHOD:PUBLISH
CALSCALE:GREGORIAN
PRODID:rbb-CMS DAY
BEGIN:VEVENT
CLASS:PUBLIC
URL:http://www.rbb-online.de/content/rbb/rbb/brandenburgaktuell/serien/land-und-lecker/probiermahl-eberswalde-land-und-lecker.html
DTEND:20131101T200000
DTSTART:20131101T193000
UID:/content/rbb/rbb/brandenburgaktuell/serien/land-und-lecker/probiermahl-eberswalde-land-und-lecker
DTSTAMP:20140405T105300
DESCRIPTION:Der Name ist Programm: Im "ProbierMahl" können die Gäste erst einmal ein Löffelchen probieren, wenn sie sich nicht ganz sicher mit ihrer Wahl sind. Dort wird gutbürgerlich aber modern gekocht, vor allem mit regionalen Produkten.\n\n\n
SUMMARY:ProbierMahl in Eberswalde  
END:VEVENT
END:VCALENDAR
