BEGIN:VCALENDAR
X-WR-TIMEZONE:Europe/Berlin
X-WR-CALNAME:rbb-Kalender
VERSION:2.0
METHOD:PUBLISH
CALSCALE:GREGORIAN
PRODID:rbb-CMS DAY
BEGIN:VEVENT
CLASS:PUBLIC
URL:http://www.rbb-online.de/content/rbb/rbb/brandenburgaktuell/serien/vorgestellt/aktuell_20130408_vorgestellt.html
DTEND:20130408T193000
DTSTART:20130408T193000
UID:/content/rbb/rbb/brandenburgaktuell/serien/vorgestellt/aktuell_20130408_vorgestellt
DTSTAMP:20140407T111132
DESCRIPTION:Die junge Modedesignerin Sarah Gwiszcz kommt aus Ragow im Spreewald. Sie entwirft Mode, die sich an der sorbischen Tracht orientiert, aber dennoch flippig und modern ist. Mittlerweile hat sie mehrere Modenschauen in der Region organisiert und will sich mit einem eigenen Atelier selbstständig machen.
SUMMARY:Vorgestellt: Sarah Gwiszcz
END:VEVENT
END:VCALENDAR
