BEGIN:VCALENDAR
X-WR-TIMEZONE:Europe/Berlin
X-WR-CALNAME:rbb-Kalender
VERSION:2.0
METHOD:PUBLISH
CALSCALE:GREGORIAN
PRODID:rbb-CMS DAY
BEGIN:VEVENT
CLASS:PUBLIC
URL:http://www.rbb-online.de/content/rbb/rbb/brandenburgaktuell/serien/vorgestellt/aktuell_20130415_vorgestellt.html
DTEND:20130415T193000
DTSTART:20130415T193000
UID:/content/rbb/rbb/brandenburgaktuell/serien/vorgestellt/aktuell_20130415_vorgestellt
DTSTAMP:20140407T111142
DESCRIPTION:Der Koch Volker Tabatt kümmert sich seit zwanzig Jahren mit großem Engagement um die Ausbildung des Nachwuchses. Für einen "Macher" wie ihn müsste der Tag eigentlich 48 Stunden haben. Wir haben ihn in Lindow im Landkreis Ostprignitz-Ruppin besucht.
SUMMARY:Vorgestellt: Volker Tabatt
END:VEVENT
END:VCALENDAR
