BEGIN:VCALENDAR
X-WR-TIMEZONE:Europe/Berlin
X-WR-CALNAME:rbb-Kalender
VERSION:2.0
METHOD:PUBLISH
CALSCALE:GREGORIAN
PRODID:rbb-CMS DAY
BEGIN:VEVENT
CLASS:PUBLIC
URL:http://www.rbb-online.de/content/rbb/rbb/brandenburgaktuell/serien/vorgestellt/aktuell_20130520_vorgestellt.html
DTEND:20130520T193000
DTSTART:20130520T193000
UID:/content/rbb/rbb/brandenburgaktuell/serien/vorgestellt/aktuell_20130520_vorgestellt
DTSTAMP:20140407T111230
DESCRIPTION:Schäferhunde sind sein Leben und an seinen ersten kann sich der 75-jährige Manfred Grüneklee noch heute gut erinnern. Damals war er noch ein Kind, doch die Faszination am Familien-, Rettungs- und Wachhund hat ihn seitdem nie wieder losgelassen.
SUMMARY:Vorgestellt: Manfred Grüneklee
END:VEVENT
END:VCALENDAR
