BEGIN:VCALENDAR
X-WR-TIMEZONE:Europe/Berlin
X-WR-CALNAME:rbb-Kalender
VERSION:2.0
METHOD:PUBLISH
CALSCALE:GREGORIAN
PRODID:rbb-CMS DAY
BEGIN:VEVENT
CLASS:PUBLIC
URL:http://www.rbb-online.de/content/rbb/rbb/brandenburgaktuell/serien/vorgestellt/aktuell_20130527_vorgestellt.html
DTEND:20130527T193000
DTSTART:20130527T193000
UID:/content/rbb/rbb/brandenburgaktuell/serien/vorgestellt/aktuell_20130527_vorgestellt
DTSTAMP:20140407T111224
DESCRIPTION:Maritimes Flair im Schwedter Plattenbau. Der 61-jährige Schwedter Rolf Bartho hat sich den Buddelschiffen verschrieben. Schon zu DDR-Zeiten hat der ehemalige Chemiefacharbeiter Schiffe in kleine Flaschen gebracht.
SUMMARY:Vorgestellt: Buddelschipper Rolf Bartho
END:VEVENT
END:VCALENDAR
