BEGIN:VCALENDAR
X-WR-TIMEZONE:Europe/Berlin
X-WR-CALNAME:rbb-Kalender
VERSION:2.0
METHOD:PUBLISH
CALSCALE:GREGORIAN
PRODID:rbb-CMS DAY
BEGIN:VEVENT
CLASS:PUBLIC
URL:http://www.rbb-online.de/content/rbb/rbb/brandenburgaktuell/serien/vorgestellt/aktuell_20130603_vorgestellt.html
DTEND:20130603T193000
DTSTART:20130603T193000
UID:/content/rbb/rbb/brandenburgaktuell/serien/vorgestellt/aktuell_20130603_vorgestellt
DTSTAMP:20140407T111254
DESCRIPTION:Wenn zwei sich streiten, braucht es einen Dritten. Einen, der versucht, mit den Streithähnen eine Lösung zu finden. So einer ist Werner Strehle. Mit seiner Teamkollegin arbeitet er regelmäßig als Mediator am Weinberg-Gymnasium in Kleinmachnow - ehrenamtlich.
SUMMARY:Vorgestellt: Mediator Strehle
END:VEVENT
END:VCALENDAR
