BEGIN:VCALENDAR
X-WR-TIMEZONE:Europe/Berlin
X-WR-CALNAME:rbb-Kalender
VERSION:2.0
METHOD:PUBLISH
CALSCALE:GREGORIAN
PRODID:rbb-CMS DAY
BEGIN:VEVENT
CLASS:PUBLIC
URL:http://www.rbb-online.de/content/rbb/rbb/brandenburgaktuell/serien/vorgestellt/aktuell_20130701_falz.html
DTEND:20130701T193000
DTSTART:20130701T193000
UID:/content/rbb/rbb/brandenburgaktuell/serien/vorgestellt/aktuell_20130701_falz
DTSTAMP:20140407T111309
DESCRIPTION:Bernd Falz sammelt Loks im Maßstab 1:1. In der Eisenbahnerstadt Falkenberg an der Elster hat sich der Pfälzer ein Privatmuseum eingerichtet. Insgesamt stehen dort 130 Dampf-, Diesel- und E-Loks; darunter zwei preußische Schnellzugloks aus dem Jahr 1922.\n
SUMMARY:Vorgestellt: Loksammler Bernd Falz
END:VEVENT
END:VCALENDAR
