BEGIN:VCALENDAR
X-WR-TIMEZONE:Europe/Berlin
X-WR-CALNAME:rbb-Kalender
VERSION:2.0
METHOD:PUBLISH
CALSCALE:GREGORIAN
PRODID:rbb-CMS DAY
BEGIN:VEVENT
CLASS:PUBLIC
URL:http://www.rbb-online.de/content/rbb/rbb/brandenburgaktuell/serien/vorgestellt/einradgruppe-fredersdorf-vogelsdorf.html
DTEND:20131028T200000
DTSTART:20131028T193000
UID:/content/rbb/rbb/brandenburgaktuell/serien/vorgestellt/einradgruppe-fredersdorf-vogelsdorf
DTSTAMP:20140405T112204
DESCRIPTION:Sie suchen immer neue Mitglieder, die Einradfahrer von Fredersdorf-Vogelsdorf. Los geht es schon mit sechs Jahren, aber auch im Erwachsenenalter können Interessierte noch einsteigen. Und das nicht bei irgendwem: Die Fredersdorfer sind Berlin-Brandenburger Meister im Einradfahren.\n\n\n\n\n
SUMMARY:Vorgestellt: Einradgruppe Fredersdorf-Vogelsdorf
END:VEVENT
END:VCALENDAR
