BEGIN:VCALENDAR
X-WR-TIMEZONE:Europe/Berlin
X-WR-CALNAME:rbb-Kalender
VERSION:2.0
METHOD:PUBLISH
CALSCALE:GREGORIAN
PRODID:rbb-CMS DAY
BEGIN:VEVENT
CLASS:PUBLIC
URL:http://www.rbb-online.de/content/rbb/rbb/brandenburgaktuell/serien/vorgestellt/fahrradabenteurer-sven-duschka.html
DTEND:20140331T200000
DTSTART:20140331T193000
UID:/content/rbb/rbb/brandenburgaktuell/serien/vorgestellt/fahrradabenteurer-sven-duschka
DTSTAMP:20140404T155408
DESCRIPTION:Grenzgänger – Abenteurer – Verrückter: Bezeichnungen, die wohl alle irgendwie auf Sven Duschka passen. Er hat mit dem Fahrrad einmal die Nord- und Ostsee umrundet. Dabei ging er bis an seine Grenzen, wurde von Schweden adoptiert und hat am Ende die Liebe gefunden.\n
SUMMARY:Fahrradabenteurer Sven Duschka
END:VEVENT
END:VCALENDAR
