BEGIN:VCALENDAR
X-WR-TIMEZONE:Europe/Berlin
X-WR-CALNAME:rbb-Kalender
VERSION:2.0
METHOD:PUBLISH
CALSCALE:GREGORIAN
PRODID:rbb-CMS DAY
BEGIN:VEVENT
CLASS:PUBLIC
URL:http://www.rbb-online.de/content/rbb/rbb/brandenburgaktuell/serien/vorgestellt/freudig.html
DTEND:20131021T200000
DTSTART:20131021T193000
UID:/content/rbb/rbb/brandenburgaktuell/serien/vorgestellt/freudig
DTSTAMP:20140405T112424
DESCRIPTION:Die Fotografin Miriam Freudig hat ihre Lieblingsmotive in der Prignitz gefunden. Vor allem die „Oper im Schweinestall“ in Klein Leppin und die Menschen dort haben es ihr angetan.\n\n\n
SUMMARY:Vorgestellt: Miriam Freudig, Opernfotografin
END:VEVENT
END:VCALENDAR
