BEGIN:VCALENDAR
X-WR-TIMEZONE:Europe/Berlin
X-WR-CALNAME:rbb-Kalender
VERSION:2.0
METHOD:PUBLISH
CALSCALE:GREGORIAN
PRODID:rbb-CMS DAY
BEGIN:VEVENT
CLASS:PUBLIC
URL:http://www.rbb-online.de/content/rbb/rbb/brandenburgaktuell/serien/vorgestellt/pfarrerin-aljona-hofmann.html
DTEND:20140303T200000
DTSTART:20140303T193000
UID:/content/rbb/rbb/brandenburgaktuell/serien/vorgestellt/pfarrerin-aljona-hofmann
DTSTAMP:20140405T112509
DESCRIPTION:Aljona Hofmann wurde in Russland geboren. Sie ist das Kind von Flüchtlingen, die erst in den 70er Jahren nach Deutschland zurückkehren konnten. Heute arbeitet sie als Pfarrerin in der evangelischen Kirche in Kyritz.\n
SUMMARY:Die Pfarrerin Aljona Hofmann
END:VEVENT
END:VCALENDAR
